Workbook

Sheet Preencher
A1: Instruções de Preenchimento da Planilha Principal Esta planilha constitui a folha-mestra de informações do processo. Os dados inseridos aqui serão vinculados automaticamente aos demais anexos do arquivo, permitindo o preenchimento automático dos requerimentos padronizados, formulários e declarações associados à tramitação interna do processo no SAAE Viçosa. O responsável pelo preenchimento e tramitação do processo deverá inserir manualmente apenas os campos destacados em amarelo, certificando-se de que todas as informações estejam completas e corretas antes do envio do processo. Os demais campos, fórmulas e vínculos não devem ser alterados, pois garantem a integração entre os anexos e a padronização dos documentos gerados.
A2: 1. DADOS DO EMPREENDEDOR
A3: Nome Completo / Razão Social:
A4: CPF / CNPJ:
A5: Endereço Completo:
A6: Representante Legal:
A7: Documento de Identificação:
A8: CPF:
A9: Telefone / E-mail:
A10: 2. DADOS DO RESPONSÁVEL TÉCNICO
A11: Nome Completo:
A12: CPF:
... A29: Vazão média de água (Qmd = P × q)
A30: Vazão de esgoto (Qes = 0,9 × Qmd) | B30: =B29*0.9 -> 0
A31: Fonte de abastecimento proposta | B31: SISTEMA PÚBLICO
A32: Existência de rede pública próxima | B32: SIM
A33: Distância aprox.
A34: Reservação total (m3)
A35: Solução de esgoto | B35: Rede Pública Existente
A36: 6. INFORMAÇÕES DE ARQUIVAMENTO
A37: Protocolo nº:
A38: Data de recebimento:
A39: Processo SAAE nº:
A40: Nº da DTB/Versão:
A41: Data de Emissão da DTB:

Sheet ANEXO I
A1: ANEXO I – REQUERIMENTO DE DIRETRIZES TÉCNICAS BÁSICAS (DTB)
A2: Na qualidade de Empreendedor, venho solicitar a CTPL / DPSAM / SAAE de Viçosa as Diretrizes Técnicas Básicas (DTB) para elaboração do projeto do (s) Sistema de Abastecimento de Água e/ou Esgotamento Sanitário, bom como suas diretrizes técnicas.
A3: 1. DADOS DO EMPREENDEDOR
A4: Nome Completo / Razão Social: | C4: CPF / CNPJ:
A5: =Preencher!B3 -> 0 | C5: =Preencher!B4 -> 0
A6: Representante Legal: | B6: Documento de Identificação: | C6: CPF:
A7: =Preencher!B6 -> 0 | B7: =Preencher!B7 -> 0 | C7: =Preencher!B8 -> 0
A8: Endereço Completo:
A9: =Preencher!B5 -> 0
A10: Telefone / E-mail:
A11: =Preencher!B9 -> 0
A12: 2. DADOS DO RESPONSÁVEL TÉCNICO
A13: Nome Completo: | C13: CPF:
A14: =Preencher!B11 -> 0 | C14: =Preencher!B12 -> 0
A15: Profissão / Especialidade - CREA / CAU: | C15: ART nº:
A16: =Preencher!B13 -> 0 | C16: =Preencher!B14 -> 0
A17: Telefone / E-mail:
A18: =Preencher!B15 -> 0
A19: 3. IDENTIFICAÇÃO DO EMPREENDIMENTO
A20: Nome do Empreendimento:
A21: =Preencher!B17 -> 0
A22: Localização / Endereço / Distrito / Referência:
A23: =Preencher!B18 -> 0
A24: Área Total Empreendimento(m²): | C24: Número de Lotes / Unidades:
A25: =Preencher!B19 -> 0 | C25: =Preencher!B20 -> 0
A26: Tipo de Ocupação:
A27: =Preencher!D21 -> Loteamento Residencial / Comercial ☐ Loteamento Residencial de Interesse Social ☐ Loteamento Industrial ☐
A28: Zoneamento / Lei Municipal: | B28: Coordenadas Geográficas (SIRGAS 2000):
A29: =Preencher!B22 -> 0 | B29: ="Latitude (UTM): "&TEXT(Preencher!B23,"#.##0,0000")&"; Longitude (UTM): "&TEXT(Preencher!B24,"#.##0,0000") -> Latitude (UTM): 0,0000; Longitude (UTM): 0,0000
A30: 4. DOCUMENTAÇÃO OBRIGATÓRIA
A31: ☐ Cópia do documento de identificação do empreendedor (RG/CPF ou CNPJ);
A32: ☐ Procuração do proprietário ao representante legal (quando aplicável);
A33: ☐ ART do responsável técnico pela solicitação;
A34: ☐ Planta de implantação ou projeto pré-urbanístico, indicando tipologia da ocupação;
A35: ☐ Levantamento topográfico georreferenciado (SIRGAS 2000) em formato DWG e PDF, com curvas de nível de 1 m e coordenadas UTM nos vértices;
A36: ☐ Estimativa preliminar de população e vazões de água e esgoto, conforme critérios do Manual do Empreendedor;
A37: ☐ Croqui de localização com referência ao sistema público existente;
A38: ☐ Comprovante de pagamento da Taxa de Emissão de DTB, conforme Anexo VI.
A39: 5. INFORMAÇÕES TÉCNICAS BÁSICAS
A40: Parâmetro | B40: Unidade | C40: Valor
...

Sheet ANEXO II
A1: ANEXO II – REQUERIMENTO DE ANÁLISE E APROVAÇÃO DE PROJETOS (SAA e SES)
A2: Na qualidade de Empreendedor, venho solicitar a CTPL (Comissão Técnica Permanente de Loteamentos) do SAAE de Viçosa a análise e aprovação dos projetos do Sistema de Abastecimento de Água e/ou Esgotamento Sanitário, bom como suas diretrizes técnicas.
A3: 1. DADOS DO EMPREENDEDOR
A4: Nome Completo / Razão Social: | C4: CPF / CNPJ:
A5: =Preencher!B3 -> 0 | C5: =Preencher!B4 -> 0
A6: Representante Legal: | B6: Documento de Identificação: | C6: CPF:
A7: =Preencher!B6 -> 0 | B7: =Preencher!B7 -> 0 | C7: =Preencher!B8 -> 0
A8: Endereço Completo:
A9: =Preencher!B5 -> 0
A10: Telefone / E-mail:
A11: =Preencher!B9 -> 0
A12: 2. DADOS DO RESPONSÁVEL TÉCNICO
A13: Nome Completo: | C13: CPF:
A14: =Preencher!B11 -> 0 | C14: =Preencher!B12 -> 0
A15: Profissão / Especialidade - CREA / CAU: | C15: ART nº:
A16: =Preencher!B13 -> 0 | C16: =Preencher!B14 -> 0
A17: Telefone / E-mail:
A18: =Preencher!B15 -> 0
A19: 3. IDENTIFICAÇÃO DO EMPREENDIMENTO
A20: DTB – Diretriz Técnica Básica (Número / Versão): | C20: Data de Emissão da DTB:
A21: =Preencher!B40 -> 0 | C21: =Preencher!B41 -> 0
A22: Nome do Empreendimento: | C22: Processo SAAE nº:
A23: =Preencher!B17 -> 0 | C23: =Preencher!B39 -> 0
A24: Localização / Endereço / Distrito / Referência:
A25: =Preencher!B18 -> 0
A26: Área Total Empreendimento(m²): | B26: Número de Lotes / Unidades: | C26: Zoneamento / Lei Municipal:
A27: =Preencher!B19 -> 0 | B27: =Preencher!B20 -> 0 | C27: =Preencher!B22 -> 0
A28: Tipo de Ocupação:
A29: =Preencher!D21 -> Loteamento Residencial / Comercial ☐ Loteamento Residencial de Interesse Social ☐ Loteamento Industrial ☐
A30: 4. DOCUMENTAÇÃO OBRIGATÓRIA
A31: ☐ Cópia da DTB (nº / versão)
A32: ☐ ART(s) de elaboração dos projetos (SAA e SES)
A33: ☐ Projeto Hidráulico SAA (obrigatório)
A34: ☐ Projeto Hidráulico SES (obrigatório)
A35: ☐ Projeto Complementares (caso necessário)
A36: ☐ Memoriais descritivos e de cálculo
A37: ☐ Comprovante da Taxa de Análise de Projeto
A38: 5. INFORMAÇÕES TÉCNICAS BÁSICAS
A39: Parâmetro | B39: Unidade | C39: Valor
A40: População (Pi / Pm / Pf) | B40: hab
...

Sheet ANEXO III
A1: ANEXO III – CHECKLIST PARA ANÁLISE TÉCNICA DE PROJETO BÁSICO DE SAA E SES
A2: O presente checklist tem como objetivo padronizar e registrar a análise técnica dos Projetos de SAA e SES submetidos à apreciação da CTPL / DPSAM , conforme critérios estabelecidos no Manual do Empreendedor, servindo como instrumento de controle, rastreabilidade e decisão quanto à emissão do Termo de Aprovação de Projeto (TAP).
A3: 1. IDENTIFICAÇÃO DO EMPREENDIMENTO
A4: DTB – Diretriz Técnica Básica (Número / Versão): | C4: Data de Emissão da DTB:
A5: =Preencher!B40 -> 0 | C5: =Preencher!B41 -> 0
A6: Nome do Empreendimento: | C6: Processo SAAE nº:
A7: =Preencher!B17 -> 0 | C7: =Preencher!B39 -> 0
A8: Localização / Endereço / Distrito / Referência: | C8: Zoneamento / Lei Municipal:
A9: =Preencher!B18 -> 0 | C9: =Preencher!B22 -> 0
A10: Área Total Empreendimento(m²): | C10: Número de Lotes / Unidades:
A11: =Preencher!B19 -> 0 | C11: =Preencher!B20 -> 0
A12: Tipo de Ocupação:
A13: =Preencher!D21 -> 0
A14: 2. DOCUMENTAÇÃO OBRIGATÓRIA
A15: Nº | B15: DESCRIÇÃO DO ITEM | C15: SITUAÇÃO
A16: 1 | B16: Anexo II – Requerimento de Análise e Aprovação de Projeto, assinado | C16: PARCIALMENTE ATENDIDO
A17: 2 | B17: Cópia da DTB válida emitida pela DPSAM | C17: ATENDIDO
A18: 3 | B18: Projeto Urbanístico aprovado pela Prefeitura ou declaração de aprovação em trâmite | C18: ATENDIDO
A19: 4 | B19: ART(s) dos responsáveis técnicos pelos projetos de SAA e SES | C19: ATENDIDO
A20: 5 | B20: Memorial Descritivo e Justificativo | C20: ATENDIDO
A21: 6 | B21: Declaração de Adequação aos Padrões do SAAE Viçosa | C21: ATENDIDO
A22: 7 | B22: Comprovante de pagamento da Taxa de Análise de Projetos | C22: ATENDIDO
A23: 3. PROJETO BÁSICO DE SISTEMA DE ABASTECIMENTO DE ÁGUA (SAA)
A24: Nº | B24: DESCRIÇÃO DO ITEM | C24: SITUAÇÃO
A25: 8 | B25: Projeto elaborado conforme parâmetros da DTB e normas ABNT | C25: ATENDIDO
A26: 9 | B26: Apresenta cálculo de vazões (média, máxima e mínima) conforme metodologia do Manual do Empreendedor | C26: ATENDIDO
A27: 10 | B27: Traçado hidráulico completo (adutoras, redes, reservatórios e interligações) | C27: ATENDIDO
A28: 11 | B28: Identificação das cotas, materiais, diâmetros e classes de pressão | C28: ATENDIDO
A29: 12 | B29: Plantas e perfis na escala 1:200 (ou adequada), georreferenciados – SIRGAS 2000 | C29: ATENDIDO
A30: 13 | B30: Indicação de VRP, registros, ventosas, descargas e dispositivos de manobra | C30: ATENDIDO
A31: 14 | B31: Inclusão de projeto elétrico, estrutural, automação e complementares, quando aplicável | C31: ATENDIDO
A32: 15 | B32: Previsão de hidrantes e dispositivos de proteção contra incêndio conforme IT-29/CBMMG | C32: ATENDIDO
A33: 16 | B33: Planilha orçamentária compatível com bases COPASA, SICOR ou SINAPI-MG | C33: ATENDIDO
A34: 4. PROJETOS COM CAPTAÇÃO SUBTERRÂNEA (POÇOS TUBULARES)(quando aplicável)
A35: Nº | B35: DESCRIÇÃO DO ITEM | C35: SITUAÇÃO
A36: 17 | B36: Previsão mínima de dois poços (um reserva) conforme padrões SAAE/COPASA | C36: ATENDIDO
A37: 18 | B37: Relatório final, teste de bombeamento (mín. 24h), perfil geológico e análises físico-químicas | C37: ATENDIDO
A38: 19 | B38: Instalações com macromedição individual e telemetria compatível | C38: ATENDIDO
A39: 20 | B39: Outorga do IGAM válida ou comprovante de protocolo de solicitação (prazo máx. 6 meses) | C39: ATENDIDO
A40: 21 | B40: Poço cercado e com controle de acesso conforme padrão SAAE | C40: ATENDIDO
...

Sheet ANEXO IV
A1: ANEXO IV – REQUERIMENTO DE ALTERAÇÃO DE PROJETO APROVADO
A2: 1. IDENTIFICAÇÃO DO EMPREENDIMENTO
A3: DTB – Diretriz Técnica Básica (Número / Versão): | C3: Data de Emissão da DTB:
A4: =Preencher!B40 -> 0 | C4: =Preencher!B41 -> 0
A5: Nome do Empreendimento: | C5: Processo SAAE nº:
A6: =Preencher!B17 -> 0 | C6: =Preencher!B39 -> 0
A7: Localização / Endereço / Distrito / Referência: | C7: Área Total Empreendimento(m²):
A8: =Preencher!B18 -> 0 | C8: =Preencher!B19 -> 0
A9: Zoneamento / Lei Municipal: | C9: Número de Lotes / Unidades:
A10: =Preencher!B22 -> 0 | C10: =Preencher!B20 -> 0
A11: Tipo de Ocupação:
A12: =Preencher!D21 -> Loteamento Residencial / Comercial ☐ Loteamento Residencial de Interesse Social ☐ Loteamento Industrial ☐
A13: 2. DADOS DO RESPONSÁVEL TÉCNICO
A14: Nome Completo: | C14: CPF:
A15: =Preencher!B11 -> 0 | C15: =Preencher!B12 -> 0
A16: Profissão / Especialidade - CREA / CAU: | C16: ART nº:
A17: =Preencher!B13 -> 0 | C17: =Preencher!B14 -> 0
A18: Telefone / E-mail:
A19: =Preencher!B15 -> 0
A20: 3. OBJETO DO TERMO
A21: O presente Pedido de Alteração de Projeto Aprovado tem por finalidade submeter à análise da Diretoria de Planejamento e Saneamento Ambiental (DPSAM) e da Comissão Técnica Permanente de Loteamentos (CTPL) as modificações técnicas realizadas no projeto originalmente aprovado pelo Termo de Aprovação de Projeto (TAP) nº ________/____. As alterações ora propostas são apresentadas mediante justificativa técnica detalhada, acompanhada dos desenhos revisados, memoriais atualizados e respectivas ARTs.
A22: 3.1. Resumo das alterações solicitadas:
A23: Descrição da alteração proposta | B23: Motivo técnico / justificativa | C23: Impactos sobre o sistema SAA / SES
A28: 4. DOCUMENTAÇÃO OBRIGATÓRIA
A29: ☐ Planta(s) revisada(s) com alterações destacadas em cor distinta.
A30: ☐ Memoriais descritivo e de cálculo atualizados.
A31: ☐ ART de revisão do projeto atualizada(quando aplicável).
A32: ☐ Licença, anuência ou ofício complementar de outros órgãos (quando houver)
A33: ☐ Planilha de custos ou orçamento revisado (quando houver impacto financeiro)
A34: ☐ Declaração do responsável técnico original concordando com as alterações (quando aplicável)
A35: ☐ Comprovante da Taxa de Renálise de Projeto (50% do valor da Taxa de Análise de Projeto Básico)
A36: 5. DECLARAÇÃO DO EMPREENDEDOR
A37: Declaro que os projetos apresentados atendem às Diretrizes Técnicas Básicas – DTB nº /_______________, emitidas pela DPSAM / CTPL e diretrizes presente no Manual do Empreendedor, assumindo a veracidade das informações e a conformidade dos documentos.
A38: Data: ______/______/______
A39: ____________________________________________________________ Assinatura do Empreendedor / Representante Legal
... A44: 7. USO EXCLUSIVO DO SAAE VIÇOSA
A45: Protocolo Interno Nº: | C45: Data de recebimento:
A47: Triagem documental (CTPL/DPSAM):
A48: ☐ Documentação completa ☐ Pendência documental (especificar): ____________________________________________
A49: Conformidade com DTB:
...

Sheet ANEXO V
A1: ANEXO V – REQUERIMENTO DE APROVAÇÃO DE PROJETO "AS BUILT" E VISTÓRIA DE OBRA
A2: Na qualidade de empreendedor responsável, venho requerer à DPSAM/CTPL a aprovação do Projeto “As Built” e a Vistoria da Obras de infraestrutura hidráulico-sanitária do empreendimento a ser incorporada pelo SAAE Viçosa.
A3: 1. DADOS DO EMPREENDEDOR
A4: Nome Completo / Razão Social: | C4: CPF / CNPJ:
A5: =Preencher!B3 -> 0 | C5: =Preencher!B4 -> 0
A6: Representante Legal: | B6: Documento de Identificação: | C6: CPF:
A7: =Preencher!B6 -> 0 | B7: =Preencher!B7 -> 0 | C7: =Preencher!B8 -> 0
A8: Endereço Completo:
A9: =Preencher!B5 -> 0
A10: Telefone / E-mail:
A11: =Preencher!B9 -> 0
A12: 2. DADOS DO RESPONSÁVEL TÉCNICO
A13: Nome Completo: | C13: CPF:
A14: =Preencher!B11 -> 0 | C14: =Preencher!B12 -> 0
A15: Profissão / Especialidade - CREA / CAU: | C15: ART nº:
A16: =Preencher!B13 -> 0 | C16: =Preencher!B14 -> 0
A17: Telefone / E-mail:
A18: =Preencher!B15 -> 0
A19: 3. IDENTIFICAÇÃO DO EMPREENDIMENTO
A20: DTB – Diretriz Técnica Básica (Número / Versão): | C20: Data de Emissão da DTB:
A21: =Preencher!B40 -> 0 | C21: =Preencher!B41 -> 0
A22: Nome do Empreendimento: | C22: Processo SAAE nº:
A23: =Preencher!B17 -> 0 | C23: =Preencher!B39 -> 0
A24: Localização / Endereço / Distrito / Referência:
A25: =Preencher!B18 -> 0
A26: Área Total Empreendimento(m²): | B26: Número de Lotes / Unidades: | C26: Zoneamento / Lei Municipal:
A27: =Preencher!B19 -> 0 | B27: =Preencher!B20 -> 0 | C27: =Preencher!B22 -> 0
A28: Tipo de Ocupação:
A29: =Preencher!D21 -> Loteamento Residencial / Comercial ☐ Loteamento Residencial de Interesse Social ☐ Loteamento Industrial ☐
A30: 4. DOCUMENTAÇÃO OBRIGATÓRIA
A31: ☐ Cópia do TAP Aprovado (nº / versão)
A32: ☐ ART de responsabilidade pela execução e acompanhamento da obra
A33: ☐ Projeto “As Built” do SAA e SES (Georreferenciado no SIRGAS 2000)
A34: ☐ Projeto “As Built” Estrutural e Laudo Geotécnico (Sondagens)
A35: ☐ Projeto “As Built” Eletro-eletrônico / Automação / Telemétria / SPDA e outros correlatados
A36: ☐ Projeto “As Built” Complementares
A37: ☐ Relatórios de ensaio de estanqueidade, funcionamento e desempenho (com ART)
A38: ☐ Licenças e outorgas de operação vigentes
A39: ☐ Relatório fotográfico das obras executadas
A40: ☐ Comprovação de ligação elétrica e operacional junto à CEMIG (quando aplicável)
...

Sheet ANEXO VI
A1: ANEXO VI – CHECKLIST PARA ANÁLISE DE PROJETO "AS BUILT" E VISTORIA DE OBRA
A2: O presente checklist tem por objetivo padronizar e registrar a análise técnica dos Projetos “As Built” e a Vistoria de Obra executadas nos empreendimentos imobiliários sob aprovação do SAAE Viçosa, conforme os critérios estabelecidos noManual do Empreendedor, servindo como instrumento de controle, rastreabilidade e decisão quanto à emissão do Termo de Aceite Técnico Provisório (TATP).
A3: 1. IDENTIFICAÇÃO DO EMPREENDIMENTO
A4: DTB – Diretriz Técnica Básica (Número / Versão): | C4: Data de Emissão da DTB:
A5: =Preencher!B40 -> 0 | C5: =Preencher!B41 -> 0
A6: Nome do Empreendimento: | C6: Processo SAAE nº:
A7: =Preencher!B17 -> 0 | C7: =Preencher!B39 -> 0
A8: Localização / Endereço / Distrito / Referência: | C8: Zoneamento / Lei Municipal:
A9: =Preencher!B18 -> 0 | C9: =Preencher!B22 -> 0
A10: Área Total Empreendimento(m²): | C10: Número de Lotes / Unidades:
A11: =Preencher!B19 -> 0 | C11: =Preencher!B20 -> 0
A12: Tipo de Ocupação:
A13: =Preencher!D21 -> Loteamento Residencial / Comercial ☐ Loteamento Residencial de Interesse Social ☐ Loteamento Industrial ☐
A14: 2. DOCUMENTAÇÃO OBRIGATÓRIA
A15: Nº | B15: DESCRIÇÃO DO ITEM | C15: SITUAÇÃO
A16: 1 | B16: Requerimento de Aprovação de Projeto “As Built” e Vistoria Final (Anexo IX) devidamente assinado | C16: NÃO ATENDIDO
A17: 2 | B17: Cópia do TAP aprovado e da DTB correspondente | C17: ATENDIDO
A18: 3 | B18: ART(s) dos responsáveis técnicos pelos Projetos “As Built” | C18: ATENDIDO
A19: 4 | B19: ART(s) dos responsáveis técnicos pela execução e acompanhamento das Obras | C19: ATENDIDO
A20: 5 | B20: Relatório fotográfico atualizado das obras executadas | C20: DISPENSADO
A21: 6 | B21: Relatórios de ensaio de estanqueidade, funcionamento e desempenho (com ART) | C21: ATENDIDO
A22: 7 | B22: Comprovação de ligação elétrica e operacional junto à CEMIG (quando aplicável) | C22: ATENDIDO
A23: 8 | B23: Licenças e outorgas de operação vigentes | C23: ATENDIDO
A24: 9 | B24: Romaneio de Entrega dos Materiais Instalados (Inventário de Materiais / Notas Fiscais) | C24: ATENDIDO
A25: 10 | B25: Comprovante de pagamento da Taxa Análise / Reanalise de Projetos “As Built” | C25: ATENDIDO
A26: 11 | B26: Comprovante de pagamento da Taxa de Vistoria Final | C26: ATENDIDO
A27: PROJETO “AS BUILT” – ANÁLISE E APROVAÇÃO TÉCNICA
A28: Nº | B28: DESCRIÇÃO DO ITEM | C28: SITUAÇÃO
A29: 12 | B29: Aprovação do Projeto “As Built” do Sistema de Abastecimento de Água (SAA) | C29: ATENDIDO
A30: 13 | B30: Aprovação do Projeto “As Built” do Sistema de Esgotamento Sanitário (SES) | C30: ATENDIDO
A31: 14 | B31: Aprovação do Projeto “As Built” Estrutural | C31: ATENDIDO
A32: 15 | B32: Aprovação do Laudo Geotécnico (Sondagens) | C32: ATENDIDO
A33: 16 | B33: Aprovação do Projeto “As Built” Elétrico-Eletrônico | C33: ATENDIDO
A34: 17 | B34: Aprovação do Projeto “As Built” de Automação / Telemetria | C34: ATENDIDO
A35: 18 | B35: Aprovação do Projeto “As Built” SPDA | C35: ATENDIDO
A36: 19 | B36: Aprovação do Projeto “As Built” Complementares | C36: ATENDIDO
A37: 20 | B37: Compatibilidade geral entre disciplinas (SAA, SES, elétrica, estrutural e automação) | C37: ATENDIDO
A38: 21 | B38: Versão digital completa do “As Built” em DWG (georreferenciado) e PDF não editável | C38: ATENDIDO
A39: 4. VISTORIA FINAL – INSPEÇÃO EM CAMPO
A40: Nº | B40: DESCRIÇÃO DO ITEM | C40: SITUAÇÃO
...

Sheet ANEXO VII
A1: ANEXO VII – TERMO DE APROVAÇÃO DE PROJETO (TAP)
A2: 1. IDENTIFICAÇÃO DO EMPREENDIMENTO
A3: DTB – Diretriz Técnica Básica (Número / Versão): | C3: Data de Emissão da DTB:
A4: =Preencher!B40 -> 0 | C4: =Preencher!B41 -> 0
A5: Nome do Empreendimento: | C5: Processo SAAE nº:
A6: =Preencher!B17 -> 0 | C6: =Preencher!B39 -> 0
A7: Localização / Endereço / Distrito / Referência: | C7: Área Total Empreendimento(m²):
A8: =Preencher!B18 -> 0 | C8: =Preencher!B19 -> 0
A9: Zoneamento / Lei Municipal: | C9: Número de Lotes / Unidades:
A10: =Preencher!B22 -> 0 | C10: =Preencher!B20 -> 0
A11: Tipo de Ocupação:
A12: =Preencher!D21 -> Loteamento Residencial / Comercial ☐ Loteamento Residencial de Interesse Social ☐ Loteamento Industrial ☐
A13: 2. DADOS DO RESPONSÁVEL TÉCNICO
A14: Nome Completo: | C14: CPF:
A15: =Preencher!B11 -> 0 | C15: =Preencher!B12 -> 0
A16: Profissão / Especialidade - CREA / CAU: | C16: ART nº:
A17: =Preencher!B13 -> 0 | C17: =Preencher!B14 -> 0
A18: Telefone / E-mail:
A19: =Preencher!B15 -> 0
A20: 3. OBJETO DO TERMO
A21: O presente TERMO DE APROVAÇÃO DE PROJETO (TAP) tem por objeto a aprovação técnica dos Projetos de Infraestrutura Hidrossanitária (SAA – Sistema de Abastecimento de Água e SES – Sistema de Esgotamento Sanitário) do empreendimento identificado acima, elaborados de acordo com as Diretrizes Técnicas Básicas – DTB nº _________/____, emitidas pela Diretoria de Planejamento e Saneamento Ambiental – DPSAM, e analisados pela Comissão Técnica Permanente de Loteamentos – CTPL. A aprovação abrange os projetos de SAA e SES, memoriais descritivos e de cálculo, devidamente acompanhados das respectivas ARTs dos responsáveis técnicos. 1 - Parâmetros hidráulicos e hidráulico-sanitários adequados 2 - Materiais e equipamentos compatíveis com padrões SAAE 3 - Reservação mínima e pressões de serviço conforme DTB 4 - Compatibilidade entre SAA e SES (cotas e interligações) 5 - Orçamento elaborado com base COPASA / SICOR / SINAPI-MG 6 - ARTs dos responsáveis técnicos válidas 7 - Licenças e Outorga (quando exigidas)
A22: 4. CONDICIONANTES E OBRIGAÇÕES DO EMPREENDEDOR
A23: O empreendedor compromete-se a: 1 - Executar as obras conforme os projetos aprovados neste Termo, obedecendo integralmente às normas técnicas e às diretrizes da DTB nº _________/____; 2 - Não realizar alterações de projeto sem prévia anuência formal da DPSAM; 3 - Manter responsável técnico ativo e registrado junto ao CREA/CAU durante toda a execução das obras; 4 - Recolher as taxas correspondentes às etapas subsequentes do processo (fiscalização, vistoria e incorporação), conforme Anexo VI do Manual do Empreendedor; 5 - Solicitar à CTPL / DPSAM a vistoria técnica e emissão do Termo de Aceite Técnico Provisório (TATP) após a conclusão das obras; 6 - Cumprir as demais condicionantes técnicas, ambientais e administrativas previstas na DTB e nas legislações correlatas.
A24: 5. PRAZO DE VALIDADE
A25: O presente Termo de Aprovação de Projeto (TAP) tem validade de 04 (quatro) anos, contados a partir da data de sua emissão, podendo ser revalidado uma única vez por período de 02 (dois) anos, mediante solicitação formal antes do vencimento e comprovação da manutenção das condições técnicas vigentes.
A26: 6. ASSINATURAS
A27: Viçosa-MG, ____ de ___________________ de ______.
A28: Assinatura dos membros da CTPL:

Sheet ANEXO VIII
A1: ANEXO VIII – TERMO DE ACEITE TÉCNICO PROVISÓRIO (TATP)
A2: 1. IDENTIFICAÇÃO DO EMPREENDIMENTO
A3: DTB – Diretriz Técnica Básica (Número / Versão): | C3: Data de Emissão da DTB:
A4: =Preencher!B40 -> 0 | C4: =Preencher!B41 -> 0
A5: Nome do Empreendimento: | C5: Processo SAAE nº:
A6: =Preencher!B17 -> 0 | C6: =Preencher!B39 -> 0
A7: Localização / Endereço / Distrito / Referência: | C7: Área Total Empreendimento(m²):
A8: =Preencher!B18 -> 0 | C8: =Preencher!B19 -> 0
A9: Zoneamento / Lei Municipal: | C9: Número de Lotes / Unidades:
A10: =Preencher!B22 -> 0 | C10: =Preencher!B20 -> 0
A11: Tipo de Ocupação:
A12: =Preencher!D21 -> Loteamento Residencial / Comercial ☐ Loteamento Residencial de Interesse Social ☐ Loteamento Industrial ☐
A13: 2. DADOS DO RESPONSÁVEL TÉCNICO
A14: Nome Completo: | C14: CPF:
A15: =Preencher!B11 -> 0 | C15: =Preencher!B12 -> 0
A16: Profissão / Especialidade - CREA / CAU: | C16: ART nº:
A17: =Preencher!B13 -> 0 | C17: =Preencher!B14 -> 0
A18: Telefone / E-mail:
A19: =Preencher!B15 -> 0
A20: 3. OBJETO DO TERMO
A21: O presente TERMO DE ACEITE TÉCNICO PROVISÓRIO (TATP) tem por objeto o reconhecimento técnico preliminar, pelo SAAE Viçosa, da execução das obras e instalações de infraestrutura hidrossanitária (SAA e SES) do empreendimento acima identificado, atestando a conformidade geral das redes implantadas com os projetos aprovados no Termo de Aprovação de Projeto (TAP) e com a DTB nº _________/____ emitidas pela CTPL / DPSAM. A emissão deste Termo indica que: 1 - As redes e estruturas implantadas estão em condições operacionais iniciais para testes e interligação; 2 - Foram apresentados os projetos “As Built” e memoriais técnicos compatíveis com a execução em campo; 3 - As vistorias e ensaios de estanqueidade e funcionamento foram aprovados pela CTPL; 4 - O empreendedor apresentou o Seguro de Integridade das Obras, conforme exigido no Capítulo 9 do Manual; 5 - O sistema encontra-se apto à operação assistida supervisionada pela equipe técnica do SAAE Viçosa.
A22: 4. CONDICIONANTES E OBRIGAÇÕES DO EMPREENDEDOR
A23: O empreendedor compromete-se a: 1 - Manter o pleno funcionamento dos sistemas de SAA e SES durante o período de operação assistida, conforme cronograma acordado com o SAAE; 2 - Responder prontamente a notificações de irregularidades, apresentando proposta técnica e cronograma de correção em até 10 (dez) dias úteis; 3 - Manter ativo o Seguro de Integridade das Obras pelo prazo mínimo de 5 (cinco) anos, conforme Anexo VI; 4 - Apresentar relatórios técnicos e registros operacionais sempre que solicitados pela DPSAM; 5 - Solicitar, ao final do período de operação assistida, a vistoria final e emissão do Termo de Recebimento Definitivo (TRD); 6 - Cumprir todas as condicionantes ambientais, legais e técnicas previstas na DTB e nas normas vigentes.
A24: 5. PROCEDIMENTOS SUBSEQUENTES
A25: Após a emissão deste Termo de Aceite Técnico Provisório (TATP), o empreendedor deverá iniciar imediatamente os procedimentos complementares e obrigatórios previstos no Manual do Empreendedor, observando o seguinte: 1 - Providenciar o Seguro de Integridade das Obras, conforme estabelecido no item 9.5, garantindo a cobertura por eventuais falhas construtivas, vícios de engenharia, danos estruturais ou não conformidades identificadas durante o período de operação assistida; 2 - Dar início ao processo de doação e incorporação das infraestruturas hidráulico-sanitárias e respectivas áreas, conforme os requisitos e prazos definidos no Cap. 10 – Procedimentos para Doação dos Sistemas presente no Manual do Empreendedor; 3 - Apresentar, quando solicitado, relatórios de desempenho, registros operacionais e evidências de conformidade técnica, até a emissão do Termo de Recebimento Definitivo (TRD). O não cumprimento desses procedimentos implicará a suspensão da tramitação do processo de recebimento definitivo e poderá ensejar sanções administrativas, conforme previsto no Anexo VII deste Manual.
A26: 6. ASSINATURAS
A27: Viçosa-MG, ____ de ___________________ de ______.
A28: Assinatura dos membros da CTPL:

Sheet ANEXO IX
B1: DATA | C1: ZZZZ
B2: PROPRIETÁRIO/DOADOR | C2: XXXX | D2: XXXX
B3: RESP. TÉCNICO | C3: YYYY | D3: YYYY
B4: DIPRE-SAAE
B5: DPSAM-SAAE
B6: PROCURADORIA-SAAE
B7: CONTROLADORIA-SAAE
A8: ANEXO IX – TERMO DE RECEBIMENTO DEFINITIVO (TRD)
A10: 1. IDENTIFICAÇÃO DO EMPREENDIMENTO
A11: TATP – Termo de Aceite Técnico Provisório (Número / Data): | D11: DTB (Número / Versão):
D12: =Preencher!B40 -> 0
A13: Nome do Empreendimento: | D13: Processo SAAE nº:
A14: =Preencher!B17 -> 0 | D14: =Preencher!B39 -> 0
A15: Localização / Endereço / Distrito / Referência: | D15: Área Total Empreendimento(m²):
A16: =Preencher!B18 -> 0 | D16: =Preencher!B19 -> 0
A17: Zoneamento / Lei Municipal: | D17: Número de Lotes / Unidades:
A18: =Preencher!B22 -> 0 | D18: =Preencher!B20 -> 0
A19: Tipo de Ocupação:
A20: =Preencher!D21 -> Loteamento Residencial / Comercial ☐ Loteamento Residencial de Interesse Social ☐ Loteamento Industrial ☐
A21: 2. DADOS DO EMPREENDEDOR
A22: Razão Social / Nome do Empreendedor: | D22: CPF / CNPJ:
A23: =Preencher!B3 -> 0 | D23: =Preencher!B4 -> 0
A24: Representante Legal: | C24: Documento de Identificação: | D24: CPF:
A25: =Preencher!B6 -> 0 | C25: =Preencher!B7 -> 0 | D25: =Preencher!B8 -> 0 | G25: =1060/30 -> 35.333333
A26: Endereço Completo:
A27: =Preencher!B5 -> 0
A28: Telefone / E-mail:
A29: =Preencher!B9 -> 0
A30: 3. DADOS DO RESPONSÁVEL TÉCNICO
A31: Nome Completo: | D31: CPF:
A32: =Preencher!B11 -> 0 | D32: =Preencher!B12 -> 0
A33: Profissão / Especialidade - CREA / CAU: | D33: ART nº:
A34: =Preencher!B13 -> 0 | D34: =Preencher!B14 -> 0
A35: Telefone / E-mail:
A36: =Preencher!B15 -> 0
A37: 4. OBJETO DO TERMO
A38: O presente TERMO DE RECEBIMENTO DEFINITIVO (TRD) tem por objeto o recebimento definitivo, pelo SAAE Viçosa, das obras e instalações de infraestrutura hidrossanitária (SAA – Sistema de Abastecimento de Água e SES – Sistema de Esgotamento Sanitário) do empreendimento identificado acima. A emissão deste Termo comprova o cumprimento integral das condicionantes técnicas, operacionais, ambientais e administrativas estabelecidas no Termo de Aceite Técnico Provisório (TATP), no Termo de Aprovação de Projeto (TAP) e na Diretriz Técnica Básica (DTB) correspondente, bem como nas normas, padrões e procedimentos internos vigentes do SAAE Viçosa. A emissão deste documento formaliza simultaneamente o ato de doação e incorporação das infraestruturas ao patrimônio público municipal, constituindo o instrumento definitivo de transferência de titularidade das redes, estruturas e equipamentos à autarquia. O TRD atesta que: 1 - Todas as não conformidades e pendências técnicas identificadas durante a operação assistida foram devidamente sanadas; 2 - As infraestruturas encontram-se em condições plenas de operação, manutenção e segurança; 3 - Foram apresentados todos os relatórios de desempenho, memoriais, manuais operacionais e projetos “As Built” atualizados; 4 - O Seguro de Integridade das Obras permanece válido e vigente, conforme disposto no item 9.5 do Manual; 5 - O empreendimento foi integrado ao sistema público municipal de água e esgoto, passando a constituir patrimônio do SAAE Viçosa.
A39: 5. OBRIGAÇÕES DO EMPREENDEDOR
A40: O empreendedor compromete-se a: 1 - Garantir suporte técnico e fornecer informações complementares sempre que solicitado pela DPSAM / SAAE Viçosa; 2 - Manter ativo o Seguro de Integridade das Obras pelo período mínimo de 5 (cinco) anos contados a partir da emissão deste TRD; 3 - Cumprir as responsabilidades pós-doação, conforme o art. 618 do Código Civil e demais legislações aplicáveis; 4 - Abster-se de realizar qualquer intervenção nas redes, equipamentos ou áreas incorporadas sem prévia autorização formal do SAAE Viçosa; 5 - Manter atualizado o registro do responsável técnico e do representante legal até o encerramento formal de todo o processo administrativo.
A41: 6. CONDIÇÕES DE RECEBIMENTO PELO SAAE VIÇOSA
...

Sheet ANEXO X
A1: ANEXO X – TABELA DE TAXAS E EMOLUMENTOS TÉCNICOS
C2: UFM | D2: VALOR DO UFM (UNIDADE FSICAL MUNICIPAL) DO ANO FISCAL | E2: UN | F2: 73.51
C3: A | D3: ÁREA TOTAL DO EMPREENDIMENTO | E3: M2 | F3: 0
C4: L | D4: QUANTIDADE DE LOTES NO EMPREENDIMENTO | E4: UN | F4: 0
C5: D | D5: DISTÂNCIA DA SEDE DO SAAE (IDA E VOLTA) | E5: KM | F5: 0
B7: SICOR | C7: CO-27339 | D7: ENGENHEIRO/ARQUITETO, NÍVEL CONSULTOR, INCLUSIVE ENCARGOS COMPLEMENTARES | E7: H | F7: 219.89 | G7: Valor Referencia Planilha SICOR-MG
B8: SICOR | C8: CO-27498 | D8: TÉCNICO DE NÍVEL MÉDIO, INCLUSIVE ENCARGOS COMPLEMENTARES | E8: H | F8: 38.61 | G8: Valor Referencia Planilha SICOR-MG
B9: SAAE | C9: CPU-01 | D9: ADVOGADO (SERVIÇO TÉCNICO JURÍDICO COM ENCARGOS) | E9: H | F9: =F7 -> 219.89 | G9: Valor Ref. Planilha SICOR-MG CO-27339
B10: SAAE | C10: CPU-02 | D10: ANALISTA DE CONTROLE INTERNO / CONTADOR PÚBLICO | E10: H | F10: =F7 -> 219.89 | G10: Valor Ref. Planilha SICOR-MG CO-27339
B11: SAAE | C11: CPU-03 | D11: EQUIPAMENTOS DE ESCRITÓRIO, COMPUTADOR, IMPRESSORA, E OUTROS | E11: UN | F11: =3.2*F2 -> 235.232 | G11: Valor de 3,2 x UFM
B12: SAAE | C12: CPU-04 | D12: DESLOCAMENTO URBANO TÉCNICO, MENOR QUE 10 KM (IDA E VOLTA)* | E12: UN | F12: =4*F2 -> 294.04 | G12: Valor de 4,0 x UFM
D13: * SE O DESLOCAMENTO FOR MAIOR QUE 10 KM, O VALOR SERÁ ACRESCIDO DE 20% | E13: UN | F13: =4*1.2*F2 -> 352.848 | G13: Valor de (4,0x1,2) x UFM
B14: SAAE | C14: CPU-05 | D14: EMISSÃO DO TERMO DE VIABILIDADE TÉCNICA (TVT) | E14: UN | F14: =$F$2 -> 73.51 | G14: Valor de 1,00 UFM
B15: SAAE | C15: CPU-06 | D15: EMISSÃO DO TERMO DE APROVAÇÃO DE PROJETO (TAP) | E15: UN | F15: =$F$2 -> 73.51 | G15: Valor de 1,00 UFM
B16: SAAE | C16: CPU-07 | D16: EMISSÃO DE PARECER TÉCNICO | E16: UN | F16: =$F$2 -> 73.51 | G16: Valor de 1,00 UFM
B17: SAAE | C17: CPU-08 | D17: EMISSÃO DO TERMO DE APROVAÇÃO DO "AS BUILT" | E17: UN | F17: =$F$2 -> 73.51 | G17: Valor de 1,00 UFM
B18: SAAE | C18: CPU-09 | D18: EMISSÃO DO TERMO DE RECEBIMENTO DE OBRAS HIDROSSANITÁRIAS (TRO) | E18: UN | F18: =$F$2 -> 73.51 | G18: Valor de 1,00 UFM
B19: SAAE | C19: CPU-10 | D19: EMISSÃO DO TERMO DE RECEBIMENTO DEFINITIVO (TRD) | E19: UN | F19: =$F$2 -> 73.51 | G19: Valor de 1,00 UFM
C21: 1 | D21: Fase de Viabilidade
C22: 1.1 | D22: Taxa de Análise de Viabilidade Técnica
A23: Item | B23: Ref. | C23: Código | D23: Descrição | E23: Unidade | F23: Quant. | G23: Valor Unit. | H23: Valor Total
A24: 1 | B24: =IFERROR(INDEX($B$7:$B$19,MATCH(C24,$C$7:$C$19,0)),"") -> SICOR | C24: CO-27339 | D24: =IFERROR(VLOOKUP(C24,$C$7:$D$19,2,FALSE),"") -> ENGENHEIRO/ARQUITETO, NÍVEL CONSULTOR, INCLUSIVE ENCARGOS COMPLEMENTARES | E24: =IFERROR(VLOOKUP(C24,$C$7:$E$19,3,FALSE),"") -> H | F24: 6 | G24: =IFERROR(INDEX($F$7:$F$19,MATCH(C24,$C$7:$C$19,0)),"") -> 219.89 | H24: =F24*G24 -> 1319.34
A25: 2 | B25: =IFERROR(INDEX($B$7:$B$19,MATCH(C25,$C$7:$C$19,0)),"") -> SICOR | C25: CO-27498 | D25: =IFERROR(VLOOKUP(C25,$C$7:$D$19,2,FALSE),"") -> TÉCNICO DE NÍVEL MÉDIO, INCLUSIVE ENCARGOS COMPLEMENTARES | E25: =IFERROR(VLOOKUP(C25,$C$7:$E$19,3,FALSE),"") -> H | F25: 1.2 | G25: =IFERROR(INDEX($F$7:$F$19,MATCH(C25,$C$7:$C$19,0)),"") -> 38.61 | H25: =F25*G25 -> 46.332
A26: 3 | B26: =IFERROR(INDEX($B$7:$B$19,MATCH(C26,$C$7:$C$19,0)),"") -> SAAE | C26: CPU-03 | D26: =IFERROR(VLOOKUP(C26,$C$7:$D$19,2,FALSE),"") -> EQUIPAMENTOS DE ESCRITÓRIO, COMPUTADOR, IMPRESSORA, E OUTROS | E26: =IFERROR(VLOOKUP(C26,$C$7:$E$19,3,FALSE),"") -> UN | F26: 1 | G26: =IFERROR(INDEX($F$7:$F$19,MATCH(C26,$C$7:$C$19,0)),"") -> 235.232 | H26: =F26*G26 -> 235.232
A27: 4 | B27: =IFERROR(INDEX($B$7:$B$19,MATCH(C27,$C$7:$C$19,0)),"") -> SAAE | C27: CPU-04 | D27: =IFERROR(VLOOKUP(C27,$C$7:$D$19,2,FALSE),"") -> DESLOCAMENTO URBANO TÉCNICO, MENOR QUE 10 KM (IDA E VOLTA)* | E27: =IFERROR(VLOOKUP(C27,$C$7:$E$19,3,FALSE),"") -> UN | F27: 1 | G27: =IFERROR(IF($F$5<=10,$F$12,$F$13),"") -> 294.04 | H27: =F27*G27 -> 294.04
A28: 5 | B28: =IFERROR(INDEX($B$7:$B$19,MATCH(C28,$C$7:$C$19,0)),"") -> SAAE | C28: CPU-05 | D28: =IFERROR(VLOOKUP(C28,$C$7:$D$19,2,FALSE),"") -> EMISSÃO DO TERMO DE VIABILIDADE TÉCNICA (TVT) | E28: =IFERROR(VLOOKUP(C28,$C$7:$E$19,3,FALSE),"") -> UN | F28: 1 | G28: =IFERROR(INDEX($F$7:$F$19,MATCH(C28,$C$7:$C$19,0)),"") -> 73.51 | H28: =F28*G28 -> 73.51
G29: VALOR TOTAL: | H29: =SUM(H24:H28) -> 1968.454
C30: 1.2 | D30: Taxa de Elaboração de EVTE ( ≤ 100 lotes/imóveis)
A31: Item | B31: Ref. | C31: Código | D31: Descrição | E31: Unidade | F31: Quant. | G31: Valor Unit. | H31: Valor Total
A32: 1 | B32: =IFERROR(INDEX($B$7:$B$19,MATCH(C32,$C$7:$C$19,0)),"") -> SICOR | C32: CO-27339 | D32: =IFERROR(VLOOKUP(C32,$C$7:$D$19,2,FALSE),"") -> ENGENHEIRO/ARQUITETO, NÍVEL CONSULTOR, INCLUSIVE ENCARGOS COMPLEMENTARES | E32: =IFERROR(VLOOKUP(C32,$C$7:$E$19,3,FALSE),"") -> H | F32: 25 | G32: =IFERROR(INDEX($F$7:$F$19,MATCH(C32,$C$7:$C$19,0)),"") -> 219.89 | H32: =F32*G32 -> 5497.25
A33: 2 | B33: =IFERROR(INDEX($B$7:$B$19,MATCH(C33,$C$7:$C$19,0)),"") -> SICOR | C33: CO-27498 | D33: =IFERROR(VLOOKUP(C33,$C$7:$D$19,2,FALSE),"") -> TÉCNICO DE NÍVEL MÉDIO, INCLUSIVE ENCARGOS COMPLEMENTARES | E33: =IFERROR(VLOOKUP(C33,$C$7:$E$19,3,FALSE),"") -> H | F33: 4 | G33: =IFERROR(INDEX($F$7:$F$19,MATCH(C33,$C$7:$C$19,0)),"") -> 38.61 | H33: =F33*G33 -> 154.44
A34: 3 | B34: =IFERROR(INDEX($B$7:$B$19,MATCH(C34,$C$7:$C$19,0)),"") -> SAAE | C34: CPU-03 | D34: =IFERROR(VLOOKUP(C34,$C$7:$D$19,2,FALSE),"") -> EQUIPAMENTOS DE ESCRITÓRIO, COMPUTADOR, IMPRESSORA, E OUTROS | E34: =IFERROR(VLOOKUP(C34,$C$7:$E$19,3,FALSE),"") -> UN | F34: 1 | G34: =IFERROR(INDEX($F$7:$F$19,MATCH(C34,$C$7:$C$19,0)),"") -> 235.232 | H34: =F34*G34 -> 235.232
A35: 4 | B35: =IFERROR(INDEX($B$7:$B$19,MATCH(C35,$C$7:$C$19,0)),"") -> SAAE | C35: CPU-04 | D35: =IFERROR(VLOOKUP(C35,$C$7:$D$19,2,FALSE),"") -> DESLOCAMENTO URBANO TÉCNICO, MENOR QUE 10 KM (IDA E VOLTA)* | E35: =IFERROR(VLOOKUP(C35,$C$7:$E$19,3,FALSE),"") -> UN | F35: 1 | G35: =IFERROR(IF($F$5<=10,$F$12,$F$13),"") -> 294.04 | H35: =F35*G35 -> 294.04
G36: VALOR TOTAL: | H36: =SUM(H32:H35) -> 6180.962
C37: 1.3 | D37: Taxa de Elaboração de EVTE ( > 100 lotes/imóveis)
A38: Item | B38: Ref. | C38: Código | D38: Descrição | E38: Unidade | F38: Quant. | G38: Valor Unit. | H38: Valor Total
A39: 1 | B39: =IFERROR(INDEX($B$7:$B$19,MATCH(C39,$C$7:$C$19,0)),"") -> SICOR | C39: CO-27339 | D39: =IFERROR(VLOOKUP(C39,$C$7:$D$19,2,FALSE),"") -> ENGENHEIRO/ARQUITETO, NÍVEL CONSULTOR, INCLUSIVE ENCARGOS COMPLEMENTARES | E39: =IFERROR(VLOOKUP(C39,$C$7:$E$19,3,FALSE),"") -> H | F39: =25+((F4-100)/8) -> 12.5 | G39: =IFERROR(INDEX($F$7:$F$19,MATCH(C39,$C$7:$C$19,0)),"") -> 219.89 | H39: =F39*G39 -> 2748.625
A40: 2 | B40: =IFERROR(INDEX($B$7:$B$19,MATCH(C40,$C$7:$C$19,0)),"") -> SICOR | C40: CO-27498 | D40: =IFERROR(VLOOKUP(C40,$C$7:$D$19,2,FALSE),"") -> TÉCNICO DE NÍVEL MÉDIO, INCLUSIVE ENCARGOS COMPLEMENTARES | E40: =IFERROR(VLOOKUP(C40,$C$7:$E$19,3,FALSE),"") -> H | F40: 4 | G40: =IFERROR(INDEX($F$7:$F$19,MATCH(C40,$C$7:$C$19,0)),"") -> 38.61 | H40: =F40*G40 -> 154.44
A41: 3 | B41: =IFERROR(INDEX($B$7:$B$19,MATCH(C41,$C$7:$C$19,0)),"") -> SAAE | C41: CPU-03 | D41: =IFERROR(VLOOKUP(C41,$C$7:$D$19,2,FALSE),"") -> EQUIPAMENTOS DE ESCRITÓRIO, COMPUTADOR, IMPRESSORA, E OUTROS | E41: =IFERROR(VLOOKUP(C41,$C$7:$E$19,3,FALSE),"") -> UN | F41: 1 | G41: =IFERROR(INDEX($F$7:$F$19,MATCH(C41,$C$7:$C$19,0)),"") -> 235.232 | H41: =F41*G41 -> 235.232
A42: 4 | B42: =IFERROR(INDEX($B$7:$B$19,MATCH(C42,$C$7:$C$19,0)),"") -> SAAE | C42: CPU-04 | D42: =IFERROR(VLOOKUP(C42,$C$7:$D$19,2,FALSE),"") -> DESLOCAMENTO URBANO TÉCNICO, MENOR QUE 10 KM (IDA E VOLTA)* | E42: =IFERROR(VLOOKUP(C42,$C$7:$E$19,3,FALSE),"") -> UN | F42: 1 | G42: =IFERROR(IF($F$5<=10,$F$12,$F$13),"") -> 294.04 | H42: =F42*G42 -> 294.04
...

Sheet ANEXO XI
A1: ANEXO XI – MATERIAIS E COMPONENTES PADRONIZADOS DO SAAE VIÇOSA
A2: 1. DISPOSIÇÕES GERAIS
A3: Este anexo apresenta a relação oficial de materiais, equipamentos e componentes padronizados para uso obrigatório em projetos, obras e sistemas de abastecimento de água (SAA) e esgotamento sanitário (SES) vinculados ao SAAE Viçosa. Os padrões aqui descritos têm por finalidade garantir a interoperabilidade, durabilidade, segurança operacional e uniformidade técnica das infraestruturas públicas. Os materiais deverão atender rigorosamente às normas da ABNT, especificações da COPASA-MG, SEINFRA/MG e CAIXA ECONÔMICA FEDERAL, devendo o empreendedor apresentar catálogos técnicos e laudos de conformidade emitidos pelo fabricante quando estes divergirem dos padrões especificados nestes orgãos. Quaisquer materiais ou equipamentos não constantes nesta relação somente poderão ser utilizados mediante anuência formal da DPSAM/CTPL.
A4: 2. SISTEMA DE ABASTECIMENTO DE ÁGUA (SAA)
A5: 2.1. Tubulações e conexões
A6: Tipo | B6: Material | C6: Padrão / Norma | D6: Observações
A7: Adutoras e redes principais | B7: PEAD (PN10 ou superior) | C7: NBR 15561 | D7: Solda por termofusão, DN ≥ 63 mm
A8: Redes secundárias | B8: PVC DEFOFO PN 10 | C8: NBR 5647 | D8: Junta elástica, até DN 300
A9: Ramais prediais | B9: PEAD PN 10 | C9: NBR 15561 | D9: Diâmetro mínimo DN 25 mm
A10: Conexões | B10: Ferro fundido dúctil, latão ou PVC | C10: NBR 7675 / NBR 5648 | D10: Compatíveis com o tubo utilizado
A11: Luvas e uniões | B11: Ferro fundido dúctil / latão | C11: NBR 7675 | D11: Deverão possuir anel de vedação NBR 7685
A12: 2.2. Válvulas e registros
A13: Tipo | B13: Material / Norma | C13: Especificações
A14: Registro de gaveta | B14: Ferro fundido dúctil / NBR 15707 | C14: Vedação elastomérica EPDM
A15: Registro de pressão / esfera | B15: Bronze / Latão / NBR 15708 | C15: Com acionamento de haste aparente
A16: Válvula de retenção | B16: Ferro fundido / NBR 15920 | C16: De clapeta ou pistão
A17: Válvula ventosa | B17: Ferro fundido / Aço inox | C17: Duplo efeito, com flange NBR 7675
A18: Válvula de descarga / limpeza | B18: Ferro fundido / NBR 7675 | C18: Instalada no ponto mais baixo da rede
A19: 2.3. Conjuntos e acessórios
A20: 1 - Hidrômetros: padrão DN 15 a DN 50, classe metrológica B ou superior, com corpo em latão ou material aprovado pelo INMETRO; 2 - Caixas de registro e hidrômetros: em concreto armado pré-moldado ou polietileno rotomoldado, tampa metálica com gravação “SAAE”; 3 - Ventosas e descargas: instaladas conforme projeto hidráulico e padrões SAAE (Referência padrão COPASA-MG); 4 - Booster e EEAT: deverão seguir os projetos tipo SAAE Viçosa, com quadros elétricos e dispositivos de proteção individualizados.
A21: 3. SISTEMA DE ESGOTAMENTO SANITÁRIO (SES)
A22: 3.1. Tubulações e conexões
A23: Aplicação | B23: Material | C23: Norma | D23: Observações
A24: Rede coletora | B24: PVC Série R | C24: NBR 7362 / 5688 | D24: Junta elástica com anel de vedação
A25: Ramais de ligação | B25: PVC Série R | C25: NBR 7362 | D25: Diâmetro mínimo DN 100 mm
A26: Interceptores | B26: PEAD / PVC Reforçado / Ferro Dúctil | C26: NBR 15561 / 5688 | D26: Instalação conforme perfil hidráulico
A27: Emissários | B27: PEAD / Ferro Dúctil | C27: NBR 15561 / 7675 | D27: Considerar transições flangeadas
A28: 3.2. Poços de visita (PV) e ventilação (VRP)
A29: Tipo | B29: Material / Norma | C29: Especificações
A30: PV circular pré-moldado | B30: Concreto armado / anéis DN 1000 | C30: Fundo moldado, tampa de ferro fundido classe D400
A31: PV moldado in loco | B31: Concreto armado fck ≥ 25 MPa | C31: Degraus galvanizados ou inox
A32: VRP | B32: PVC ou PEAD DN 100 | C32: Altura mínima 2,0 m acima do solo
A33: Tampas e grelhas | B33: Ferro fundido dúctil | C33: Gravação “SAAE – ESGOTO” / “SAAE – ÁGUA” conforme o caso
A34: 3.3. Ligações domiciliares
A35: 1 - Caixa de inspeção padronizada, DN 400 mm, com tampa reforçada; 2 - Tubulação de ligação com declividade mínima de 2%; 3 - Vedação com anel elastomérico e encaixe tipo ponta e bolsa.
A36: 4. INSTALAÇÕES ELÉTRICAS, AUTOMAÇÃO E TELEMETRIA
A37: Componente | B37: Especificação mínima | C37: Observações
A38: Quadros de comando | B38: IP-65, montagem em aço carbono ou inox | C38: Disjuntores e chaves seccionadoras padronizados
A39: Bombas elétricas | B39: Motor IP-55, rendimento ≥ 85% | C39: Compatível com tensão da CEMIG
A40: Sistema de automação | B40: CLP padrão Siemens ou WEG | C40: Comunicação Modbus TCP/IP
...

Sheet ANEXO XII
A1: ANEXO XII – TABELA DE DOSIMETRIA DE INFRAÇÕES E SANÇÕES TÉCNICAS
A2: Nº | B2: INFRAÇÃO | C2: ETAPA DO EMPREENDIMENTO | D2: GRAVIDADE | E2: SANÇÕES (UFM) | F2: OBSERVAÇÕES
A3: 1 | B3: Prestação de informações falsas ou adulteradas em documentos, memoriais ou cadastros técnicos | C3: Diretrizes / Projeto Básico e As Built | D3: Grave | E3: 100 | F3: Implica comunicação à Procuradoria e bloqueio de novos protocolos
A4: 2 | B4: Alteração de áreas técnicas (reservatórios, poços, EE, ETE etc.) ou cotas hidráulicas sem anuência formal da DPSAM | C4: Projeto As Built / Execução | D4: Grave | E4: 30 | F4: Obriga retificação e nova aprovação do TAP
A5: 3 | B5: Execução de obras antes da emissão do Termo de Aprovação de Projeto (TAP) | C5: Execução | D5: Grave | E5: 50 | F5: Configura execução irregular e pode gerar embargo
A6: 4 | B6: Execução de obras divergente do projeto aprovado pela CTPL ou sem autorização da DPSAM | C6: Execução | D6: Grave | E6: 50 | F6: Sujeita à paralisação imediata
A7: 5 | B7: Uso de materiais, equipamentos ou componentes diferentes dos aprovados e padronizados (Anexo VII) | C7: Execução | D7: Grave | E7: 25 | F7: Exige substituição e reanálise técnica
A8: 6 | B8: Impedir ou dificultar o acesso da fiscalização do SAAE | C8: Execução | D8: Média | E8: 15 | F8: Impede vistoria e suspende o processo
A9: 7 | B9: Não correção das pendências apontadas em relatório de fiscalização dentro do prazo estabelecido | C9: Execução | D9: Média | E9: 15 | F9: Pode atrasar o TATP
A10: 8 | B10: Início de operação ou interligação sem autorização formal do SAAE | C10: Execução / Operação | D10: Grave | E10: 75 | F10: Sujeito a desligamento e denúncia
A11: 9 | B11: Ausência de responsável técnico durante a execução ou operação assistida | C11: Execução / Operação | D11: Grave | E11: 25 | F11: Implica suspensão imediata da obra
A12: 10 | B12: Não apresentação do Seguro de Integridade das Obras (item 9.5) após o TATP | C12: Incorporação / Doação | D12: Média | E12: 10 | F12: Impede emissão do TRD
A13: 11 | B13: Não cumprimento dos prazos para regularização fundiária e doação das infraestruturas | C13: Incorporação / Doação | D13: Grave | E13: 100 | F13: Prazo máximo 6 meses + 1 prorrogação
A14: 12 | B14: Omissão ou não apresentação de outorga, licenças ou autorizações de operação válidas | C14: Incorporação / Doação | D14: Grave | E14: 30 | F14: Retém homologação do TRD
... A18: 16 | B18: Não cumprimento das obrigações pós-doação (Cap. 10.3), incluindo falhas cobertas pelo seguro | C18: Pós-doação | D18: Grave | E18: 30 | F18: Pode implicar execução da garantia
A19: 17 | B19: Reincidência em qualquer infração deste Anexo | C19: — | D19: Grave | E19: Valor dobrado | F19: Cumulativa e comunicada à Procuradoria

Sheet ANEXO XIII
A1: ANEXO XIII – NOTIFICAÇÃO / AUTO DE INFRAÇÃO TÉCNICA
A2: 1. IDENTIFICAÇÃO DO EMPREENDIMENTO
A3: DTB – Diretriz Técnica Básica (Número / Versão): | C3: Data de Emissão da DTB:
A4: =Preencher!B40 -> 0 | C4: =Preencher!B41 -> 0
A5: Nome do Empreendimento: | C5: Processo SAAE nº:
A6: =Preencher!B17 -> 0 | C6: =Preencher!B39 -> 0
A7: Localização / Endereço / Distrito / Referência: | C7: Área Total Empreendimento(m²):
A8: =Preencher!B18 -> 0 | C8: =Preencher!B19 -> 0
A9: Zoneamento / Lei Municipal: | C9: Número de Lotes / Unidades:
A10: =Preencher!B22 -> 0 | C10: =Preencher!B20 -> 0
A11: Tipo de Ocupação:
A12: =Preencher!D21 -> Loteamento Residencial / Comercial ☐ Loteamento Residencial de Interesse Social ☐ Loteamento Industrial ☐
A13: 2. DADOS DO RESPONSÁVEL TÉCNICO
A14: Nome Completo: | C14: CPF:
A15: =Preencher!B11 -> 0 | C15: =Preencher!B12 -> 0
A16: Profissão / Especialidade - CREA / CAU: | C16: ART nº:
A17: =Preencher!B13 -> 0 | C17: =Preencher!B14 -> 0
A18: Telefone / E-mail:
A19: =Preencher!B15 -> 0
A20: 4. FUNDAMENTAÇÃO LEGAL
A21: A presente notificação/autuação fundamenta-se no disposto no Capítulo 11 – Infrações e Sanções Técnicas do Manual de Interligação de Empreendimentos Imobiliários aos Sistemas Públicos de Água e Esgoto do SAAE Viçosa (R01), bem como na Lei Federal nº 14.133/2021, art. 156, inciso II, e nas Resoluções ARIS-ZM nº 119/2024 e nº 122/2025, conforme a gravidade e natureza da infração.
A22: 5. Nº IRREGULARIDADE/GRAVIDADE CONSTATADA CONFORME ANEXO XII
A24: 6. PENALIDADE / PROVIDÊNCIAS A ADOTAR
A25: Sanção Aplicável: ☐ Advertência Formal ☐ Multa de ______ UFM ☐ Suspensão do Processo ☐ Embargo da Obra Prazo para Regularização: ____ / ____ / ______ (até 10 dias úteis, salvo disposição diversa) O empreendedor deverá apresentar, dentro do prazo acima, justificativa formal e proposta de correção acompanhada de cronograma técnico, nos termos do art. 5º do Capítulo 11 do Manual. O não atendimento das exigências dentro do prazo implicará na aplicação das sanções complementares previstas na Tabela de Dosimetria (Anexo VIII), podendo resultar na suspensão de novos protocolos, embargo de obras e/ou comunicação à Procuradoria Jurídica do SAAE Viçosa.
A26: 8. ASSINATURA DO REPRESENTANTE E/OU RESPONSÁVEL TECNICO PELO EMPREENDIMENTO
A27: Nome do Representante / Empreendedor: Assinatura: Data da Ciência: ______ / ______ / _______ Nome do Responsável Técnico: Assinatura: Data da Ciência: ______ / ______ / ________ A não assintura ou recursa em assinar tal notificação, não impede o prosseguimento do Processo Administrativo.
A28: 8. ASSINATURA DO FISCAL / EMISSOR DO AUTO
A29: Nome do Fiscal Responsável: Assinatura: Data da Ocorrência: ______ / ______ / ________
A30: 9. CAMPO DE USO EXCLUSIVO DO SAAE VIÇOSA
A31: Este Auto de Infração integra o processo administrativo vinculado ao empreendimento acima identificado, devendo ser anexado ao respectivo dossiê técnico. Sua emissão tem por objetivo assegurar a rastreabilidade e o controle das ações de fiscalização técnica, sendo vedada sua reprodução, modificação ou utilização para fins externos sem autorização expressa da CTPL / DPSAM. Nº de Protocolo: Data de Recebimento do Recurso: Parecer Técnico da CTPL: Data da Deliberação: Resultado: ☐ Improcedente ☐ Procedente ☐ Parcialmente Procedente
A32: 6. ASSINATURAS
... A34: Assinatura dos membros da CTPL:
